BEGIN:VCALENDAR
VERSION:2.0
PRODID:-//Maren Grote - ECPv6.15.20//NONSGML v1.0//EN
CALSCALE:GREGORIAN
METHOD:PUBLISH
X-ORIGINAL-URL:https://marengrote.de
X-WR-CALDESC:Veranstaltungen für Maren Grote
REFRESH-INTERVAL;VALUE=DURATION:PT1H
X-Robots-Tag:noindex
X-PUBLISHED-TTL:PT1H
BEGIN:VTIMEZONE
TZID:Europe/Berlin
BEGIN:DAYLIGHT
TZOFFSETFROM:+0100
TZOFFSETTO:+0200
TZNAME:CEST
DTSTART:20230326T010000
END:DAYLIGHT
BEGIN:STANDARD
TZOFFSETFROM:+0200
TZOFFSETTO:+0100
TZNAME:CET
DTSTART:20231029T010000
END:STANDARD
BEGIN:DAYLIGHT
TZOFFSETFROM:+0100
TZOFFSETTO:+0200
TZNAME:CEST
DTSTART:20240331T010000
END:DAYLIGHT
BEGIN:STANDARD
TZOFFSETFROM:+0200
TZOFFSETTO:+0100
TZNAME:CET
DTSTART:20241027T010000
END:STANDARD
BEGIN:DAYLIGHT
TZOFFSETFROM:+0100
TZOFFSETTO:+0200
TZNAME:CEST
DTSTART:20250330T010000
END:DAYLIGHT
BEGIN:STANDARD
TZOFFSETFROM:+0200
TZOFFSETTO:+0100
TZNAME:CET
DTSTART:20251026T010000
END:STANDARD
END:VTIMEZONE
BEGIN:VEVENT
DTSTART;TZID=Europe/Berlin:20241116T180000
DTEND;TZID=Europe/Berlin:20241116T200000
DTSTAMP:20260424T121120
CREATED:20241023T132607Z
LAST-MODIFIED:20241025T133752Z
UID:21520-1731780000-1731787200@marengrote.de
SUMMARY:6. Online-Hundekongress
DESCRIPTION:Live-Diskussion zum Thema Gelassenheit & Frustrationstoleranz\nmit Maria Rehberger\, Sophie Strodtbeck und Maren Grote\nam 6. Online-Hundekongress (15.-20. November 2024)\, mit Anmeldung
URL:https://marengrote.de/event/livediskussion-gelassenheit-und-frustrationstoleranz/
LOCATION:Online
CATEGORIES:Online-Veranstaltung
ATTACH;FMTTYPE=image/jpeg:https://marengrote.de/wp-content/uploads/2024/10/online-hundekongress-2024-2.jpg
END:VEVENT
END:VCALENDAR