BEGIN:VCALENDAR
VERSION:2.0
PRODID:-//Maren Grote - ECPv6.15.20//NONSGML v1.0//EN
CALSCALE:GREGORIAN
METHOD:PUBLISH
X-WR-CALNAME:Maren Grote
X-ORIGINAL-URL:https://marengrote.de
X-WR-CALDESC:Veranstaltungen für Maren Grote
REFRESH-INTERVAL;VALUE=DURATION:PT1H
X-Robots-Tag:noindex
X-PUBLISHED-TTL:PT1H
BEGIN:VTIMEZONE
TZID:Europe/Berlin
BEGIN:DAYLIGHT
TZOFFSETFROM:+0100
TZOFFSETTO:+0200
TZNAME:CEST
DTSTART:20240331T010000
END:DAYLIGHT
BEGIN:STANDARD
TZOFFSETFROM:+0200
TZOFFSETTO:+0100
TZNAME:CET
DTSTART:20241027T010000
END:STANDARD
BEGIN:DAYLIGHT
TZOFFSETFROM:+0100
TZOFFSETTO:+0200
TZNAME:CEST
DTSTART:20250330T010000
END:DAYLIGHT
BEGIN:STANDARD
TZOFFSETFROM:+0200
TZOFFSETTO:+0100
TZNAME:CET
DTSTART:20251026T010000
END:STANDARD
BEGIN:DAYLIGHT
TZOFFSETFROM:+0100
TZOFFSETTO:+0200
TZNAME:CEST
DTSTART:20260329T010000
END:DAYLIGHT
BEGIN:STANDARD
TZOFFSETFROM:+0200
TZOFFSETTO:+0100
TZNAME:CET
DTSTART:20261025T010000
END:STANDARD
END:VTIMEZONE
BEGIN:VEVENT
DTSTART;VALUE=DATE:20250410
DTEND;VALUE=DATE:20250412
DTSTAMP:20260421T073753
CREATED:20241025T132316Z
LAST-MODIFIED:20241025T142236Z
UID:21856-1744243200-1744415999@marengrote.de
SUMMARY:Wie wird mein Hund selbstbewusst?
DESCRIPTION:Robert Mehl und Maren Grote zeigen in diesem Seminar anschaulich\, wie sich Dein Hund zu einem selbstbewussten und souveränen Begleiter entwickelt. \nIn Theorie und Praxis\, Übungen\, Videos und Vorträgen lernst Du Deinen Hund von Anfang an stärkend zu begleiten und ihm Sicherheit und Selbständigkeit zu vermitteln. Dabei geht es keinesfalls nur um die Welpenentwicklung\, sondern auch um konkrete Strategien für erwachsene Hunde\, die keinen guten Start ins Leben hatten. \nZufriedene\, selbstbewusste Hunde sind das Ziel\, auf das wir uns in diesem Seminar\, jeder von seinem Standpunkt aus\, zubewegen wollen. \nNicht nur für Hundebesitzer*innen\, sondern auch für Profis ein spannendes Gebiet und eine lohnenswerte Weiterbildung. \nHunde dürfen gerne mitgebracht werden. Es wird exemplarisch und nach Absprache vor Ort mit einzelnen Hunden gearbeitet oder etwas gezeigt. \nGeeignet für:\nAmbitionierte Hundehalter*innen\,\nHundetrainer*innen\,\nDogwalker*innen
URL:https://marengrote.de/event/wie-wird-mein-hund-selbstbewusst/
LOCATION:Schäferhundverein Reinbek\, Büchsenschinken 15A\, Reinbek\, 21465
ATTACH;FMTTYPE=image/jpeg:https://marengrote.de/wp-content/uploads/2024/10/rober-mehl-und-maren-grote.jpg
END:VEVENT
END:VCALENDAR